BEGIN:VCALENDAR
VERSION:2.0
PRODID:-//Imperial Sovereign Court of the Raintree Empire - ECPv6.15.20//NONSGML v1.0//EN
CALSCALE:GREGORIAN
METHOD:PUBLISH
X-ORIGINAL-URL:https://raintreeempire.org
X-WR-CALDESC:Events for Imperial Sovereign Court of the Raintree Empire
REFRESH-INTERVAL;VALUE=DURATION:PT1H
X-Robots-Tag:noindex
X-PUBLISHED-TTL:PT1H
BEGIN:VTIMEZONE
TZID:America/Los_Angeles
BEGIN:DAYLIGHT
TZOFFSETFROM:-0800
TZOFFSETTO:-0700
TZNAME:PDT
DTSTART:20220313T100000
END:DAYLIGHT
BEGIN:STANDARD
TZOFFSETFROM:-0700
TZOFFSETTO:-0800
TZNAME:PST
DTSTART:20221106T090000
END:STANDARD
BEGIN:DAYLIGHT
TZOFFSETFROM:-0800
TZOFFSETTO:-0700
TZNAME:PDT
DTSTART:20230312T100000
END:DAYLIGHT
BEGIN:STANDARD
TZOFFSETFROM:-0700
TZOFFSETTO:-0800
TZNAME:PST
DTSTART:20231105T090000
END:STANDARD
BEGIN:DAYLIGHT
TZOFFSETFROM:-0800
TZOFFSETTO:-0700
TZNAME:PDT
DTSTART:20240310T100000
END:DAYLIGHT
BEGIN:STANDARD
TZOFFSETFROM:-0700
TZOFFSETTO:-0800
TZNAME:PST
DTSTART:20241103T090000
END:STANDARD
BEGIN:DAYLIGHT
TZOFFSETFROM:-0800
TZOFFSETTO:-0700
TZNAME:PDT
DTSTART:20250309T100000
END:DAYLIGHT
BEGIN:STANDARD
TZOFFSETFROM:-0700
TZOFFSETTO:-0800
TZNAME:PST
DTSTART:20251102T090000
END:STANDARD
END:VTIMEZONE
BEGIN:VEVENT
DTSTART;VALUE=DATE:20240426
DTEND;VALUE=DATE:20240429
DTSTAMP:20260423T095553
CREATED:20231013T224555Z
LAST-MODIFIED:20231013T224555Z
UID:1101-1714089600-1714348799@raintreeempire.org
SUMMARY:Coronation 50 | Timeless Elegance: A Half-Century of Glamour
DESCRIPTION:Details to follow
URL:https://raintreeempire.org/event/coronation-50-timeless-elegance-a-half-century-of-glamour/
LOCATION:WA
END:VEVENT
BEGIN:VEVENT
DTSTART;TZID=America/Los_Angeles:20240425T190000
DTEND;TZID=America/Los_Angeles:20240425T210000
DTSTAMP:20260423T095553
CREATED:20231013T224402Z
LAST-MODIFIED:20231013T224402Z
UID:1099-1714071600-1714078800@raintreeempire.org
SUMMARY:ISCRE Drag Bingo at UnderBar
DESCRIPTION:Join the ISCRE at UnderBar as we play Drag Queen Bingo. Come and grab a drink\, play some bingo and maybe see a drag performance or two. \nCost is $2 per game or 8 games for $15! \nProceeds benefit the charities of the ISCRE Reign XLIX.
URL:https://raintreeempire.org/event/iscre-drag-bingo-at-underbar-13/
LOCATION:UnderBar\, 1701 1/2 Broadway St\, Vancouver\, WA\, 98663\, United States
END:VEVENT
BEGIN:VEVENT
DTSTART;TZID=America/Los_Angeles:20240411T190000
DTEND;TZID=America/Los_Angeles:20240411T210000
DTSTAMP:20260423T095553
CREATED:20231013T224325Z
LAST-MODIFIED:20231013T224325Z
UID:1097-1712862000-1712869200@raintreeempire.org
SUMMARY:ISCRE Drag Bingo at UnderBar
DESCRIPTION:Join the ISCRE at UnderBar as we play Drag Queen Bingo. Come and grab a drink\, play some bingo and maybe see a drag performance or two. \nCost is $2 per game or 8 games for $15! \nProceeds benefit the charities of the ISCRE Reign XLIX.
URL:https://raintreeempire.org/event/iscre-drag-bingo-at-underbar-12/
LOCATION:UnderBar\, 1701 1/2 Broadway St\, Vancouver\, WA\, 98663\, United States
END:VEVENT
BEGIN:VEVENT
DTSTART;TZID=America/Los_Angeles:20240410T183000
DTEND;TZID=America/Los_Angeles:20240410T200000
DTSTAMP:20260423T095553
CREATED:20230502T005131Z
LAST-MODIFIED:20230502T005131Z
UID:1022-1712773800-1712779200@raintreeempire.org
SUMMARY:ISCRE Board Meeting
DESCRIPTION:Join us for our monthly ISCRE Board Meeting!
URL:https://raintreeempire.org/event/iscre-board-meeting-15/
LOCATION:Martha’s Pantry\, 1220 NE 68th St\, Vancouver\, WA\, 98665\, United States
END:VEVENT
BEGIN:VEVENT
DTSTART;TZID=America/Los_Angeles:20240330T170000
DTEND;TZID=America/Los_Angeles:20240330T210000
DTSTAMP:20260423T095553
CREATED:20231014T001112Z
LAST-MODIFIED:20240313T184937Z
UID:1112-1711818000-1711832400@raintreeempire.org
SUMMARY:Soul Food and Gospel
DESCRIPTION:Join your hosts Tree Empress XLVIII Epiphany DM Valentine Dupont & Rose Empress XXXVI Maria Peters Lake for an amazing dinner and Gospel Music show with wonderful drag performances. \nDinner at 5pm \nShow at 6pm \nProceeds benefiting the Charities of Reign XLIX of the ISCRE and Peacock Productions.
URL:https://raintreeempire.org/event/soul-food-and-gospel/
LOCATION:Martha’s Pantry\, 1220 NE 68th St\, Vancouver\, WA\, 98665\, United States
END:VEVENT
BEGIN:VEVENT
DTSTART;TZID=America/Los_Angeles:20240328T190000
DTEND;TZID=America/Los_Angeles:20240328T210000
DTSTAMP:20260423T095553
CREATED:20231013T224200Z
LAST-MODIFIED:20231013T224200Z
UID:1095-1711652400-1711659600@raintreeempire.org
SUMMARY:ISCRE Drag Bingo at UnderBar
DESCRIPTION:Join the ISCRE at UnderBar as we play Drag Queen Bingo. Come and grab a drink\, play some bingo and maybe see a drag performance or two. \nCost is $2 per game or 8 games for $15! \nProceeds benefit the charities of the ISCRE Reign XLIX.
URL:https://raintreeempire.org/event/iscre-drag-bingo-at-underbar-11/
LOCATION:UnderBar\, 1701 1/2 Broadway St\, Vancouver\, WA\, 98663\, United States
END:VEVENT
BEGIN:VEVENT
DTSTART;TZID=America/Los_Angeles:20240314T190000
DTEND;TZID=America/Los_Angeles:20240314T210000
DTSTAMP:20260423T095553
CREATED:20231013T223932Z
LAST-MODIFIED:20231013T223932Z
UID:1093-1710442800-1710450000@raintreeempire.org
SUMMARY:ISCRE Drag Bingo at UnderBar
DESCRIPTION:Join the ISCRE at UnderBar as we play Drag Queen Bingo. Come and grab a drink\, play some bingo and maybe see a drag performance or two. \nCost is $2 per game or 8 games for $15! \nProceeds benefit the charities of the ISCRE Reign XLIX.
URL:https://raintreeempire.org/event/iscre-drag-bingo-at-underbar-10/
LOCATION:UnderBar\, 1701 1/2 Broadway St\, Vancouver\, WA\, 98663\, United States
END:VEVENT
BEGIN:VEVENT
DTSTART;TZID=America/Los_Angeles:20240313T183000
DTEND;TZID=America/Los_Angeles:20240313T203000
DTSTAMP:20260423T095553
CREATED:20230502T005047Z
LAST-MODIFIED:20230502T005047Z
UID:1020-1710354600-1710361800@raintreeempire.org
SUMMARY:ISCRE Board Meeting
DESCRIPTION:Join us for our monthly ISCRE Board Meeting!
URL:https://raintreeempire.org/event/iscre-board-meeting-14/
LOCATION:Martha’s Pantry\, 1220 NE 68th St\, Vancouver\, WA\, 98665\, United States
END:VEVENT
BEGIN:VEVENT
DTSTART;TZID=America/Los_Angeles:20240224T120000
DTEND;TZID=America/Los_Angeles:20240224T140000
DTSTAMP:20260423T095553
CREATED:20240128T195557Z
LAST-MODIFIED:20240128T195557Z
UID:1129-1708776000-1708783200@raintreeempire.org
SUMMARY:ISCRE Drag Brunch
DESCRIPTION:The ISCRE and Thirsty Sasquatch Present Drag Brunch\, hosted by Tree Empress XLIX Jacquelyn Frost and featuring Miss Oregon Gay Pride 2023 – 2024 Adrienne Alexander!\n\nThere will be fabulous performers providing entertainment starting at Noon including Jacqulyn Frost\, Adrienne Alexander\, Ducky David\, Tina Louise Sapphire Dior\, Candi Wrapper and more!\n\nProceeds benefit the Charities of Reign XLIX including the Audria M Edwards Scholarship\, Pride of the Rose Scholarship and Martha’s Pantry.\n\nTickets can be bought online for this event & remaining tickets will be sold at the door.
URL:https://raintreeempire.org/event/iscre-drag-brunch-3/
LOCATION:Thirsty Sasquatch\, 2110 Main St\, Vancouver\, WA\, 98660\, United States
END:VEVENT
BEGIN:VEVENT
DTSTART;TZID=America/Los_Angeles:20240222T190000
DTEND;TZID=America/Los_Angeles:20240222T210000
DTSTAMP:20260423T095553
CREATED:20231013T223852Z
LAST-MODIFIED:20231013T223852Z
UID:1091-1708628400-1708635600@raintreeempire.org
SUMMARY:ISCRE Drag Bingo at UnderBar
DESCRIPTION:Join the ISCRE at UnderBar as we play Drag Queen Bingo. Come and grab a drink\, play some bingo and maybe see a drag performance or two. \nCost is $2 per game or 8 games for $15! \nProceeds benefit the charities of the ISCRE Reign XLIX.
URL:https://raintreeempire.org/event/iscre-drag-bingo-at-underbar-9/
LOCATION:UnderBar\, 1701 1/2 Broadway St\, Vancouver\, WA\, 98663\, United States
END:VEVENT
BEGIN:VEVENT
DTSTART;TZID=America/Los_Angeles:20240214T080000
DTEND;TZID=America/Los_Angeles:20240214T170000
DTSTAMP:20260423T095553
CREATED:20230502T004950Z
LAST-MODIFIED:20230502T004950Z
UID:1018-1707897600-1707930000@raintreeempire.org
SUMMARY:ISCRE Board Meeting
DESCRIPTION:Join us for our monthly ISCRE Board Meeting!
URL:https://raintreeempire.org/event/iscre-board-meeting-13/
LOCATION:Martha’s Pantry\, 1220 NE 68th St\, Vancouver\, WA\, 98665\, United States
END:VEVENT
BEGIN:VEVENT
DTSTART;TZID=America/Los_Angeles:20240210T163000
DTEND;TZID=America/Los_Angeles:20240210T200000
DTSTAMP:20260423T095553
CREATED:20231014T000843Z
LAST-MODIFIED:20231014T000843Z
UID:1110-1707582600-1707595200@raintreeempire.org
SUMMARY:Heart to Heart
DESCRIPTION:Join the ISCRE for the Heart to Heart Drag Show.\nWhile love is in the air\, you will see performances by some of the areas best performers and all for a good cause!\nBring that Special someone and come out for a show we know you will LOVE!\nProceeds benefiting the charities of Reign XLIX.
URL:https://raintreeempire.org/event/heart-to-heart/
LOCATION:Vancouver Elks Lodge\, 11605 SE McGillivray Blvd\, Vancouver\, WA\, 98683\, United States
END:VEVENT
BEGIN:VEVENT
DTSTART;TZID=America/Los_Angeles:20240208T190000
DTEND;TZID=America/Los_Angeles:20240208T210000
DTSTAMP:20260423T095553
CREATED:20231013T223757Z
LAST-MODIFIED:20231013T223757Z
UID:1089-1707418800-1707426000@raintreeempire.org
SUMMARY:ISCRE Drag Bingo at UnderBar
DESCRIPTION:Join the ISCRE at UnderBar as we play Drag Queen Bingo. Come and grab a drink\, play some bingo and maybe see a drag performance or two. \nCost is $2 per game or 8 games for $15! \nProceeds benefit the charities of the ISCRE Reign XLIX.
URL:https://raintreeempire.org/event/iscre-drag-bingo-at-underbar-8/
LOCATION:UnderBar\, 1701 1/2 Broadway St\, Vancouver\, WA\, 98663\, United States
END:VEVENT
BEGIN:VEVENT
DTSTART;TZID=America/Los_Angeles:20240127T170000
DTEND;TZID=America/Los_Angeles:20240127T200000
DTSTAMP:20260423T095553
CREATED:20231013T230349Z
LAST-MODIFIED:20231013T230349Z
UID:1108-1706374800-1706385600@raintreeempire.org
SUMMARY:The Interstate Bridge Pageant 2024
DESCRIPTION:Interested in becoming the next Mr\, Miss\, MS\, or MX Interstate Bridge? \nContestant are assigned a sponsor and get 1 hour to transform into the drag superstar! After the hour\, each contestant will be introduce and given a chance to perform. After all contestants have competed\, whoever raises the most money will be crowned the winner! \nInterested in becoming a sponsor? Let the Emperor and Empress know that you either have a contestant or would like one! \nProceeds to benefit the charities of Reign XLIX
URL:https://raintreeempire.org/event/the-interstate-bridge-pageant-2024/
LOCATION:Vancouver Elks Lodge\, 11605 SE McGillivray Blvd\, Vancouver\, WA\, 98683\, United States
END:VEVENT
BEGIN:VEVENT
DTSTART;TZID=America/Los_Angeles:20240125T190000
DTEND;TZID=America/Los_Angeles:20240125T210000
DTSTAMP:20260423T095553
CREATED:20231013T223648Z
LAST-MODIFIED:20231013T223648Z
UID:1087-1706209200-1706216400@raintreeempire.org
SUMMARY:ISCRE Drag Bingo at UnderBar
DESCRIPTION:Join the ISCRE at UnderBar as we play Drag Queen Bingo. Come and grab a drink\, play some bingo and maybe see a drag performance or two. \nCost is $2 per game or 8 games for $15! \nProceeds benefit the charities of the ISCRE Reign XLIX.
URL:https://raintreeempire.org/event/iscre-drag-bingo-at-underbar-7/
LOCATION:UnderBar\, 1701 1/2 Broadway St\, Vancouver\, WA\, 98663\, United States
END:VEVENT
BEGIN:VEVENT
DTSTART;TZID=America/Los_Angeles:20240111T190000
DTEND;TZID=America/Los_Angeles:20240111T210000
DTSTAMP:20260423T095553
CREATED:20231013T223609Z
LAST-MODIFIED:20231013T223609Z
UID:1085-1704999600-1705006800@raintreeempire.org
SUMMARY:ISCRE Drag Bingo at UnderBar
DESCRIPTION:Join the ISCRE at UnderBar as we play Drag Queen Bingo. Come and grab a drink\, play some bingo and maybe see a drag performance or two. \nCost is $2 per game or 8 games for $15! \nProceeds benefit the charities of the ISCRE Reign XLIX.
URL:https://raintreeempire.org/event/iscre-drag-bingo-at-underbar-6/
LOCATION:UnderBar\, 1701 1/2 Broadway St\, Vancouver\, WA\, 98663\, United States
END:VEVENT
BEGIN:VEVENT
DTSTART;TZID=America/Los_Angeles:20240110T183000
DTEND;TZID=America/Los_Angeles:20240110T200000
DTSTAMP:20260423T095553
CREATED:20230502T004921Z
LAST-MODIFIED:20230502T004921Z
UID:1016-1704911400-1704916800@raintreeempire.org
SUMMARY:ISCRE Board Meeting
DESCRIPTION:Join us for our monthly ISCRE Board Meeting!
URL:https://raintreeempire.org/event/iscre-board-meeting-12/
LOCATION:Martha’s Pantry\, 1220 NE 68th St\, Vancouver\, WA\, 98665\, United States
END:VEVENT
BEGIN:VEVENT
DTSTART;TZID=America/Los_Angeles:20231228T190000
DTEND;TZID=America/Los_Angeles:20231228T210000
DTSTAMP:20260423T095553
CREATED:20231013T223510Z
LAST-MODIFIED:20231013T223510Z
UID:1083-1703790000-1703797200@raintreeempire.org
SUMMARY:ISCRE Drag Bingo at UnderBar
DESCRIPTION:Join the ISCRE at UnderBar as we play Drag Queen Bingo. Come and grab a drink\, play some bingo and maybe see a drag performance or two. \nCost is $2 per game or 8 games for $15! \nProceeds benefit the charities of the ISCRE Reign XLIX.
URL:https://raintreeempire.org/event/iscre-drag-bingo-at-underbar-5/
LOCATION:UnderBar\, 1701 1/2 Broadway St\, Vancouver\, WA\, 98663\, United States
END:VEVENT
BEGIN:VEVENT
DTSTART;TZID=America/Los_Angeles:20231214T190000
DTEND;TZID=America/Los_Angeles:20231214T210000
DTSTAMP:20260423T095553
CREATED:20231013T223429Z
LAST-MODIFIED:20231013T223429Z
UID:1081-1702580400-1702587600@raintreeempire.org
SUMMARY:ISCRE Drag Bingo at UnderBar
DESCRIPTION:Join the ISCRE at UnderBar as we play Drag Queen Bingo. Come and grab a drink\, play some bingo and maybe see a drag performance or two. \nCost is $2 per game or 8 games for $15! \nProceeds benefit the charities of the ISCRE Reign XLIX.
URL:https://raintreeempire.org/event/iscre-drag-bingo-at-underbar-4/
LOCATION:UnderBar\, 1701 1/2 Broadway St\, Vancouver\, WA\, 98663\, United States
END:VEVENT
BEGIN:VEVENT
DTSTART;TZID=America/Los_Angeles:20231213T183000
DTEND;TZID=America/Los_Angeles:20231213T200000
DTSTAMP:20260423T095553
CREATED:20230502T004847Z
LAST-MODIFIED:20230502T004847Z
UID:1014-1702492200-1702497600@raintreeempire.org
SUMMARY:ISCRE Board Meeting
DESCRIPTION:Join us for our monthly ISCRE Board Meeting!
URL:https://raintreeempire.org/event/iscre-board-meeting-11/
LOCATION:Martha’s Pantry\, 1220 NE 68th St\, Vancouver\, WA\, 98665\, United States
END:VEVENT
BEGIN:VEVENT
DTSTART;TZID=America/Los_Angeles:20231209T160000
DTEND;TZID=America/Los_Angeles:20231209T200000
DTSTAMP:20260423T095553
CREATED:20231013T225516Z
LAST-MODIFIED:20231013T225841Z
UID:1103-1702137600-1702152000@raintreeempire.org
SUMMARY:Christmas in Hollis Holiday Bizarre
DESCRIPTION:Join the ISCRE and Tree Empress XLVIII Epiphany DM Valentine Dupont for the Christmas in Hollis Holiday Bizarre! \nGet ready for some Pop Up Drag Performances by some of the areas best performers and well be auctioning off Christmas goodies and home decor! \nCome sporting your best 80’s & 90’s Hip Hop attire or rock that ugly Christmas Sweater as we have some holiday fun! \nProceeds benefiting the charities of Reign XLIX.
URL:https://raintreeempire.org/event/christmas-in-hollis-holiday-bizarre/
LOCATION:Vancouver Elks Lodge\, 11605 SE McGillivray Blvd\, Vancouver\, WA\, 98683\, United States
END:VEVENT
BEGIN:VEVENT
DTSTART;TZID=America/Los_Angeles:20231112T183000
DTEND;TZID=America/Los_Angeles:20231112T203000
DTSTAMP:20260423T095553
CREATED:20231013T223139Z
LAST-MODIFIED:20231013T223139Z
UID:1079-1699813800-1699821000@raintreeempire.org
SUMMARY:Thanks for Giving
DESCRIPTION:Join the ISCRE for our Annual Thanks for Giving Show. \nWe will be throwing a Lounge Show with some of the areas best queens. Come join us for some pre-Thanksgiving fun!
URL:https://raintreeempire.org/event/thanks-for-giving-2/
LOCATION:UnderBar\, 1701 1/2 Broadway St\, Vancouver\, WA\, 98663\, United States
END:VEVENT
BEGIN:VEVENT
DTSTART;TZID=America/Los_Angeles:20231109T190000
DTEND;TZID=America/Los_Angeles:20231109T210000
DTSTAMP:20260423T095553
CREATED:20231009T210607Z
LAST-MODIFIED:20231009T210607Z
UID:1071-1699556400-1699563600@raintreeempire.org
SUMMARY:ISCRE Drag Bingo at UnderBar
DESCRIPTION:Join the ISCRE at UnderBar as we play Drag Queen Bingo. Come and grab a drink\, play some bingo and maybe see a drag performance or two. \nCost is $2 per game or 8 games for $15! \nProceeds benefit the charities of the ISCRE Reign XLIX.
URL:https://raintreeempire.org/event/iscre-drag-bingo-at-underbar-3/
LOCATION:UnderBar\, 1701 1/2 Broadway St\, Vancouver\, WA\, 98663\, United States
END:VEVENT
BEGIN:VEVENT
DTSTART;TZID=America/Los_Angeles:20231108T183000
DTEND;TZID=America/Los_Angeles:20231108T200000
DTSTAMP:20260423T095553
CREATED:20230502T004801Z
LAST-MODIFIED:20230502T004801Z
UID:1012-1699468200-1699473600@raintreeempire.org
SUMMARY:ISCRE Board Meeting
DESCRIPTION:Join us for our monthly ISCRE Board Meeting!
URL:https://raintreeempire.org/event/iscre-board-meeting-10/
LOCATION:Martha’s Pantry\, 1220 NE 68th St\, Vancouver\, WA\, 98665\, United States
END:VEVENT
BEGIN:VEVENT
DTSTART;TZID=America/Los_Angeles:20231028T160000
DTEND;TZID=America/Los_Angeles:20231028T190000
DTSTAMP:20260423T095553
CREATED:20231009T211027Z
LAST-MODIFIED:20231009T211027Z
UID:1077-1698508800-1698519600@raintreeempire.org
SUMMARY:ISCRE Turnabout
DESCRIPTION:Join the ISCRE for Turnabout where Kings become Queens and Queens get to relax! This is an open show and we encourage all to participate.\n\nCome and see the transformation of Rain Emperor XLIX Ducky David\, Prince XLIX Chase N Beaver and Mr. Gay Vancouver 2023-2024 K-J Heifer and more… we promise to not disappoint!\n\nDoor 4 | Show 5 | $10 Suggested Donation\n\nProceeds benefit the charities of the ISCRE Reign XLIX.
URL:https://raintreeempire.org/event/iscre-turnabout/
LOCATION:Vancouver Elks Lodge\, 11605 SE McGillivray Blvd\, Vancouver\, WA\, 98683\, United States
END:VEVENT
BEGIN:VEVENT
DTSTART;TZID=America/Los_Angeles:20231027T170000
DTEND;TZID=America/Los_Angeles:20231027T200000
DTSTAMP:20260423T095553
CREATED:20231009T210923Z
LAST-MODIFIED:20231014T000931Z
UID:1075-1698426000-1698436800@raintreeempire.org
SUMMARY:ISCRE Community Dinner
DESCRIPTION:Please join the ISCRE and Tree Empress XLVII Candi Wrapper for a Tour of Italy Community Dinner. Proceeds supporting Martha’s Pantry.\n\nThere will be pasta galore with various sauces\, garlic bread\, salad and amazing deserts! It’s all you can eat\, so come hungry!\n\n$10 Suggested Donation\n\nWe hope to see you all there for this wonderful time of fellowship\, community building\, fundraising and feeding… come wet your noodle with us!
URL:https://raintreeempire.org/event/iscre-community-dinner/
LOCATION:Martha’s Pantry\, 1220 NE 68th St\, Vancouver\, WA\, 98665\, United States
END:VEVENT
BEGIN:VEVENT
DTSTART;TZID=America/Los_Angeles:20231026T190000
DTEND;TZID=America/Los_Angeles:20231026T210000
DTSTAMP:20260423T095553
CREATED:20231009T210519Z
LAST-MODIFIED:20231009T210519Z
UID:1069-1698346800-1698354000@raintreeempire.org
SUMMARY:ISCRE Drag Bingo at UnderBar
DESCRIPTION:Join the ISCRE at UnderBar as we play Drag Queen Bingo. Come and grab a drink\, play some bingo and maybe see a drag performance or two. \nCost is $2 per game or 8 games for $15! \nProceeds benefit the charities of the ISCRE Reign XLIX.
URL:https://raintreeempire.org/event/iscre-drag-bingo-at-underbar-2/
LOCATION:UnderBar\, 1701 1/2 Broadway St\, Vancouver\, WA\, 98663\, United States
END:VEVENT
BEGIN:VEVENT
DTSTART;TZID=America/Los_Angeles:20231015T120000
DTEND;TZID=America/Los_Angeles:20231015T140000
DTSTAMP:20260423T095553
CREATED:20231009T210754Z
LAST-MODIFIED:20240128T195303Z
UID:1073-1697371200-1697378400@raintreeempire.org
SUMMARY:ISCRE Drag Brunch
DESCRIPTION:The ISCRE and Thirsty Sasquatch Present Drag Brunch hosted by Jacquelyn Frost. Proceeds for this event will benefit the charities of Reign XLIX .\n\nThere will be fabulous performers providing entertainment starting at Noon including Jacquelyn Frost\, Ducky David\, Tina Louise Sapphire Doll\, Kisses Ash & Epiphany Dm Valentine Dupont and more!\n\nPlease join us for this wonderful event as we raise money for the Audria M Edwards Scholarship\, Pride of the Rose Scholarship and Martha’s Pantry.\n\nTickets can be bought online for this event & remaining tickets will be sold at the door. There is limited capacity for this event
URL:https://raintreeempire.org/event/iscre-drag-brunch-2/
LOCATION:Thirsty Sasquatch\, 2110 Main St\, Vancouver\, WA\, 98660\, United States
END:VEVENT
BEGIN:VEVENT
DTSTART;TZID=America/Los_Angeles:20231012T190000
DTEND;TZID=America/Los_Angeles:20231012T210000
DTSTAMP:20260423T095553
CREATED:20231009T210441Z
LAST-MODIFIED:20231009T210441Z
UID:1067-1697137200-1697144400@raintreeempire.org
SUMMARY:ISCRE Drag Bingo at UnderBar
DESCRIPTION:Join the ISCRE at UnderBar as we play Drag Queen Bingo. Come and grab a drink\, play some bingo and maybe see a drag performance or two. \nCost is $2 per game or 8 games for $15! \nProceeds benefit the charities of the ISCRE Reign XLIX.
URL:https://raintreeempire.org/event/iscre-drag-bingo-at-underbar/
LOCATION:UnderBar\, 1701 1/2 Broadway St\, Vancouver\, WA\, 98663\, United States
END:VEVENT
BEGIN:VEVENT
DTSTART;TZID=America/Los_Angeles:20231011T183000
DTEND;TZID=America/Los_Angeles:20231011T200000
DTSTAMP:20260423T095553
CREATED:20230502T004714Z
LAST-MODIFIED:20230502T004714Z
UID:1010-1697049000-1697054400@raintreeempire.org
SUMMARY:ISCRE Board Meeting
DESCRIPTION:Join us for our monthly ISCRE Board Meeting!
URL:https://raintreeempire.org/event/iscre-board-meeting-9/
LOCATION:Martha’s Pantry\, 1220 NE 68th St\, Vancouver\, WA\, 98665\, United States
END:VEVENT
END:VCALENDAR