BEGIN:VCALENDAR
VERSION:2.0
PRODID:-//Imperial Sovereign Court of the Raintree Empire - ECPv6.15.20//NONSGML v1.0//EN
CALSCALE:GREGORIAN
METHOD:PUBLISH
X-ORIGINAL-URL:https://raintreeempire.org
X-WR-CALDESC:Events for Imperial Sovereign Court of the Raintree Empire
REFRESH-INTERVAL;VALUE=DURATION:PT1H
X-Robots-Tag:noindex
X-PUBLISHED-TTL:PT1H
BEGIN:VTIMEZONE
TZID:America/Los_Angeles
BEGIN:DAYLIGHT
TZOFFSETFROM:-0800
TZOFFSETTO:-0700
TZNAME:PDT
DTSTART:20200308T100000
END:DAYLIGHT
BEGIN:STANDARD
TZOFFSETFROM:-0700
TZOFFSETTO:-0800
TZNAME:PST
DTSTART:20201101T090000
END:STANDARD
BEGIN:DAYLIGHT
TZOFFSETFROM:-0800
TZOFFSETTO:-0700
TZNAME:PDT
DTSTART:20210314T100000
END:DAYLIGHT
BEGIN:STANDARD
TZOFFSETFROM:-0700
TZOFFSETTO:-0800
TZNAME:PST
DTSTART:20211107T090000
END:STANDARD
BEGIN:DAYLIGHT
TZOFFSETFROM:-0800
TZOFFSETTO:-0700
TZNAME:PDT
DTSTART:20220313T100000
END:DAYLIGHT
BEGIN:STANDARD
TZOFFSETFROM:-0700
TZOFFSETTO:-0800
TZNAME:PST
DTSTART:20221106T090000
END:STANDARD
BEGIN:DAYLIGHT
TZOFFSETFROM:-0800
TZOFFSETTO:-0700
TZNAME:PDT
DTSTART:20230312T100000
END:DAYLIGHT
BEGIN:STANDARD
TZOFFSETFROM:-0700
TZOFFSETTO:-0800
TZNAME:PST
DTSTART:20231105T090000
END:STANDARD
BEGIN:DAYLIGHT
TZOFFSETFROM:-0800
TZOFFSETTO:-0700
TZNAME:PDT
DTSTART:20240310T100000
END:DAYLIGHT
BEGIN:STANDARD
TZOFFSETFROM:-0700
TZOFFSETTO:-0800
TZNAME:PST
DTSTART:20241103T090000
END:STANDARD
END:VTIMEZONE
BEGIN:VEVENT
DTSTART;TZID=America/Los_Angeles:20230615T180000
DTEND;TZID=America/Los_Angeles:20230615T200000
DTSTAMP:20260423T162832
CREATED:20230603T002343Z
LAST-MODIFIED:20230603T002343Z
UID:1045-1686852000-1686859200@raintreeempire.org
SUMMARY:ISCRE Drag Queen Bingo
DESCRIPTION:Join the ISCRE at UnderBar as we play Drag Queen Bingo. Come and grab a drink\, play some bingo and maybe see a drag performance or two.\n\nCost is $2 per game or 8 games for $15!\n\nProceeds benefit the charities of the ISCRE Reign XLIX
URL:https://raintreeempire.org/event/iscre-drag-queen-bingo/
LOCATION:UnderBar\, 1701 1/2 Broadway St\, Vancouver\, WA\, 98663\, United States
END:VEVENT
BEGIN:VEVENT
DTSTART;TZID=America/Los_Angeles:20230614T183000
DTEND;TZID=America/Los_Angeles:20230614T200000
DTSTAMP:20260423T162832
CREATED:20230502T004354Z
LAST-MODIFIED:20230502T004354Z
UID:1002-1686767400-1686772800@raintreeempire.org
SUMMARY:ISCRE Board Meeting
DESCRIPTION:Join us for our monthly ISCRE Board Meeting!
URL:https://raintreeempire.org/event/iscre-board-meeting-5/
LOCATION:Martha’s Pantry\, 1220 NE 68th St\, Vancouver\, WA\, 98665\, United States
END:VEVENT
BEGIN:VEVENT
DTSTART;TZID=America/Los_Angeles:20230610T170000
DTEND;TZID=America/Los_Angeles:20230610T200000
DTSTAMP:20260423T162832
CREATED:20230502T005328Z
LAST-MODIFIED:20230502T005328Z
UID:1024-1686416400-1686427200@raintreeempire.org
SUMMARY:Investitures 2023
DESCRIPTION:The ISCRE and Rain Emperor & Tree Empress XLIX Invite you to Investitures 2023! \nProceeds Benefits the ISCRE General Fund and Monarchs Travel Fund.
URL:https://raintreeempire.org/event/investitures-2023/
LOCATION:Martha’s Pantry\, 1220 NE 68th St\, Vancouver\, WA\, 98665\, United States
END:VEVENT
BEGIN:VEVENT
DTSTART;TZID=America/Los_Angeles:20230510T183000
DTEND;TZID=America/Los_Angeles:20230510T200000
DTSTAMP:20260423T162832
CREATED:20230502T004228Z
LAST-MODIFIED:20230502T004228Z
UID:1000-1683743400-1683748800@raintreeempire.org
SUMMARY:ISCRE Annual Meeting
DESCRIPTION:Join us for the ISCRE Annual Meeting where we will wrap up Reign 48 & Elect the new Board of Directors of Reign 49!
URL:https://raintreeempire.org/event/iscre-annual-meeting/
LOCATION:Martha’s Pantry\, 1220 NE 68th St\, Vancouver\, WA\, 98665\, United States
END:VEVENT
BEGIN:VEVENT
DTSTART;TZID=America/Los_Angeles:20230412T183000
DTEND;TZID=America/Los_Angeles:20230412T193000
DTSTAMP:20260423T162832
CREATED:20230106T012138Z
LAST-MODIFIED:20230106T012138Z
UID:961-1681324200-1681327800@raintreeempire.org
SUMMARY:ISCRE Board Meeting
DESCRIPTION:Join us for our monthly board meeting at 6:30 at Martha’s Pantry. Our board meeting are open to the public!
URL:https://raintreeempire.org/event/iscre-board-meeting-4/
LOCATION:Martha’s Pantry\, 1220 NE 68th St\, Vancouver\, WA\, 98665\, United States
END:VEVENT
BEGIN:VEVENT
DTSTART;TZID=America/Los_Angeles:20230308T183000
DTEND;TZID=America/Los_Angeles:20230308T193000
DTSTAMP:20260423T162832
CREATED:20230106T012057Z
LAST-MODIFIED:20230106T012057Z
UID:959-1678300200-1678303800@raintreeempire.org
SUMMARY:ISCRE Board Meeting
DESCRIPTION:Join us for our monthly board meeting at 6:30 at Martha’s Pantry. Our board meeting are open to the public!
URL:https://raintreeempire.org/event/iscre-board-meeting-3/
LOCATION:Martha’s Pantry\, 1220 NE 68th St\, Vancouver\, WA\, 98665\, United States
END:VEVENT
BEGIN:VEVENT
DTSTART;TZID=America/Los_Angeles:20230305T170000
DTEND;TZID=America/Los_Angeles:20230305T193000
DTSTAMP:20260423T162832
CREATED:20230106T011819Z
LAST-MODIFIED:20230106T011819Z
UID:953-1678035600-1678044600@raintreeempire.org
SUMMARY:SIX: a Broadway drag show
DESCRIPTION:Please join the ISCRE and Mr Gay Vancouver 2022-2023 Ash Reign Mercury as we invite you to..\nSix: A Broadway drag show\nDoor @ 5pm | Pre-Show @ 5:30\nCurtain up @ 6:30\nSuggest donation $10\nDoor prizes\, raffles\, and silent auction!
URL:https://raintreeempire.org/event/six-a-broadway-drag-show/
LOCATION:WA
END:VEVENT
BEGIN:VEVENT
DTSTART;TZID=America/Los_Angeles:20230211T160000
DTEND;TZID=America/Los_Angeles:20230211T200000
DTSTAMP:20260423T162832
CREATED:20230106T011448Z
LAST-MODIFIED:20230106T011448Z
UID:949-1676131200-1676145600@raintreeempire.org
SUMMARY:Heart 2 Heartz: A Kings & Queens Masquerade Ball
DESCRIPTION:Please join Imperial Prince 48 Robyn Heartz in a night full of Valentine Fun!\n\nWe will have drag performances\, and raffle prizes!\n\nThere will be 2 additional auditions\, but those will be for people that are 18+ 21+. The auction baskets will be baskets full of things to heat things up this Valentines season.\nWe will also be having a date auction! I have some people ready to take YOU out on a date.\n\nDoor at 4\nShow at 5
URL:https://raintreeempire.org/event/heart-2-heartz-a-kings-queens-masquerade-ball/
LOCATION:Georgie’s Bar & Grill\, 606 Broadway St\, Vancouver\, WA\, 98660\, United States
END:VEVENT
BEGIN:VEVENT
DTSTART;TZID=America/Los_Angeles:20230208T183000
DTEND;TZID=America/Los_Angeles:20230208T193000
DTSTAMP:20260423T162832
CREATED:20230106T012022Z
LAST-MODIFIED:20230106T012022Z
UID:957-1675881000-1675884600@raintreeempire.org
SUMMARY:ISCRE Board Meeting
DESCRIPTION:Join us for our monthly board meeting at 6:30 at Martha’s Pantry. Our board meeting are open to the public!
URL:https://raintreeempire.org/event/iscre-board-meeting-2/
LOCATION:Martha’s Pantry\, 1220 NE 68th St\, Vancouver\, WA\, 98665\, United States
END:VEVENT
BEGIN:VEVENT
DTSTART;TZID=America/Los_Angeles:20230128T170000
DTEND;TZID=America/Los_Angeles:20230128T210000
DTSTAMP:20260423T162832
CREATED:20230106T011253Z
LAST-MODIFIED:20230106T011253Z
UID:947-1674925200-1674939600@raintreeempire.org
SUMMARY:Interstate Bridge Pageant 2023
DESCRIPTION:Interested in becoming the next Mr\, Miss\, Ms\, or Mx Interstate Bridge?\n\nContestant are assigned a sponsor and get 1 hour to transform into the drag superstar! After the hour\, each contestant will be introduce and given a chance to perform. After all contestants have competed\, whoever raises the most money will be crowned the winner!\n\nInterested in becoming a sponsor? Let the Emperor and Empress know that you either have a contestant or would like one!\n\nDoor at 5\nShow at 6
URL:https://raintreeempire.org/event/interstate-bridge-pageant-2023/
LOCATION:Heathen Feral Public House\, 1109 Washington St.\, Vancouver\, WA\, 96660\, United States
END:VEVENT
BEGIN:VEVENT
DTSTART;TZID=America/Los_Angeles:20230111T183000
DTEND;TZID=America/Los_Angeles:20230111T193000
DTSTAMP:20260423T162832
CREATED:20230106T011945Z
LAST-MODIFIED:20230106T012214Z
UID:955-1673461800-1673465400@raintreeempire.org
SUMMARY:ISCRE Board Meeting
DESCRIPTION:Join us for our monthly board meeting at 6:30 at Martha’s Pantry. Our board meeting are open to the public!
URL:https://raintreeempire.org/event/iscre-board-meeting/
LOCATION:Martha’s Pantry\, 1220 NE 68th St\, Vancouver\, WA\, 98665\, United States
END:VEVENT
BEGIN:VEVENT
DTSTART;TZID=America/Los_Angeles:20230105T080000
DTEND;TZID=America/Los_Angeles:20230105T170000
DTSTAMP:20260423T162832
CREATED:20230106T011713Z
LAST-MODIFIED:20230106T011713Z
UID:951-1672905600-1672938000@raintreeempire.org
SUMMARY:Fellowship: A Soul Food & Gospel Celebration
DESCRIPTION:Join the ISCRE & Peacock Productions for Fellowship: A Soul Food & Gospel Celebration\n\nPlease join us for this fun evening of tasty food\, music to fill your soul\, and a celebration of joy! We have Miss Gay Oregon XLIX: Alexis Campbell Starr & Rose Empress XXXVI Maria Peters Lake hosting the evening. We will have guest from all over the PNW performing for you.\n\nDinner 5pm | Show 6pm | All Ages\n\nTickets available for Purchase on event website.\n\nProceeds to benefit the ISCRE & Peacock Productions
URL:https://raintreeempire.org/event/fellowship-a-soul-food-gospel-celebration/
LOCATION:Martha’s Pantry\, 1220 NE 68th St\, Vancouver\, WA\, 98665\, United States
END:VEVENT
BEGIN:VEVENT
DTSTART;TZID=America/Los_Angeles:20221112T080000
DTEND;TZID=America/Los_Angeles:20221112T160000
DTSTAMP:20260423T162832
CREATED:20220927T182353Z
LAST-MODIFIED:20220927T182353Z
UID:945-1668240000-1668268800@raintreeempire.org
SUMMARY:Thanks for Giving
DESCRIPTION:The ISCRE along with Just George of Stollen Goods and Kisses Major Ash Present: \nThanks for Giving \nEnjoy an amazing Meal and Show as we honor veterans who bravely served our country! \nSocial Hour at 4pm \nDinner at 5pm \nShow at 6pm
URL:https://raintreeempire.org/event/thanks-for-giving/
LOCATION:Martha’s Pantry\, 1220 NE 68th St\, Vancouver\, WA\, 98665\, United States
END:VEVENT
BEGIN:VEVENT
DTSTART;TZID=America/Los_Angeles:20221029T160000
DTEND;TZID=America/Los_Angeles:20221029T190000
DTSTAMP:20260423T162832
CREATED:20220927T182141Z
LAST-MODIFIED:20220927T182141Z
UID:943-1667059200-1667070000@raintreeempire.org
SUMMARY:Turnabout 2022
DESCRIPTION:The ISCRE & Rain Emperor 48 Present: \nTurnabout 2022 \nJoin us at Georgies Garage and Grill for a show like no other where Kings will be Queens\, Queens will be Kings and everything in between!
URL:https://raintreeempire.org/event/turnabout-2022/
LOCATION:Georgie’s Bar & Grill\, 606 Broadway St\, Vancouver\, WA\, 98660\, United States
END:VEVENT
BEGIN:VEVENT
DTSTART;TZID=America/Los_Angeles:20220927T150000
DTEND;TZID=America/Los_Angeles:20221009T190000
DTSTAMP:20260423T162832
CREATED:20220927T181926Z
LAST-MODIFIED:20220927T181926Z
UID:941-1664290800-1665342000@raintreeempire.org
SUMMARY:Oktoberfest Vantucky Style!
DESCRIPTION:The ISCRE & Just George of Stollengoodz Presents: \nOktoberfest Vantucky Style! \nJoin us on October 9th for a drag show\, raffles and a beer stein holding contest! \nFree show and proceeds benefit the Charities of the ISCRE Reign 48 \n 
URL:https://raintreeempire.org/event/oktoberfest-vantucky-style/
LOCATION:Heathen Feral Public House\, 1109 Washington St.\, Vancouver\, WA\, 96660\, United States
END:VEVENT
BEGIN:VEVENT
DTSTART;TZID=America/Los_Angeles:20220515T183000
DTEND;TZID=America/Los_Angeles:20220515T210000
DTSTAMP:20260423T162832
CREATED:20220505T024537Z
LAST-MODIFIED:20220505T024537Z
UID:917-1652639400-1652648400@raintreeempire.org
SUMMARY:Investitures for Reign 48: "An Evening at the Culture Club"
DESCRIPTION:Please join the ISCRE and Reign 48 for our annual investitures for the Reign. \n$10 Suggested. Net proceeds are split 50% to the Monarchs Travel Fund and 50% to the General Fund. \nDoor at 6:30 PM / Show at 7:30 PM \nDrag performances\, raffle pries and more! Reign 47 will be distributing their funds to their charities! \nCome find out who the new Imperial Prince and Princess of the ISCRE will be!
URL:https://raintreeempire.org/event/investitures-for-reign-48-an-evening-at-the-culture-club/
LOCATION:Martha’s Pantry\, 1220 NE 68th St\, Vancouver\, WA\, 98665\, United States
END:VEVENT
BEGIN:VEVENT
DTSTART;TZID=America/Los_Angeles:20220511T183000
DTEND;TZID=America/Los_Angeles:20220511T200000
DTSTAMP:20260423T162832
CREATED:20220505T024118Z
LAST-MODIFIED:20220505T024118Z
UID:915-1652293800-1652299200@raintreeempire.org
SUMMARY:Annual Meeting
DESCRIPTION:Annual Meeting of the Board of Directors. Election of new Directors at Large.
URL:https://raintreeempire.org/event/annual-meeting/
LOCATION:Martha’s Pantry\, 1220 NE 68th St\, Vancouver\, WA\, 98665\, United States
END:VEVENT
BEGIN:VEVENT
DTSTART;TZID=America/Los_Angeles:20220501T100000
DTEND;TZID=America/Los_Angeles:20220501T120000
DTSTAMP:20260423T162832
CREATED:20211113T195644Z
LAST-MODIFIED:20220228T004038Z
UID:851-1651399200-1651406400@raintreeempire.org
SUMMARY:Coronation XLVIII – Birds of a Feather - Victory Brunch
DESCRIPTION:Please join the ISCRE for Coronation XLVIII – Birds of a Feather – Victory Brunch to celebrate the start of a new reign.
URL:https://raintreeempire.org/event/coronation-xlviii-birds-of-a-feather-victory-brunch/
LOCATION:Martha’s Pantry\, 1220 NE 68th St\, Vancouver\, WA\, 98665\, United States
END:VEVENT
BEGIN:VEVENT
DTSTART;TZID=America/Los_Angeles:20220430T170000
DTEND;TZID=America/Los_Angeles:20220430T230000
DTSTAMP:20260423T162832
CREATED:20211113T195440Z
LAST-MODIFIED:20220228T004020Z
UID:847-1651338000-1651359600@raintreeempire.org
SUMMARY:Coronation XLVIII – Birds of a Feather
DESCRIPTION:Please join the ISCRE and Her Most Imperial Sovereign Majesty Tree Empress XLVII\, The Absolute Pink Flamingo Empress\, The Heart & Soul of the Raintree Candi Wrapper for: \nCoronation XLVIII – Birds of a Feather \n 
URL:https://raintreeempire.org/event/coronation-xlviii-birds-of-a-feather/
LOCATION:Vancouver Elks Lodge\, 11605 SE McGillivray Blvd\, Vancouver\, WA\, 98683\, United States
END:VEVENT
BEGIN:VEVENT
DTSTART;TZID=America/Los_Angeles:20220430T110000
DTEND;TZID=America/Los_Angeles:20220430T130000
DTSTAMP:20260423T162832
CREATED:20211113T194957Z
LAST-MODIFIED:20220228T003716Z
UID:845-1651316400-1651323600@raintreeempire.org
SUMMARY:Coronation XLVIII – Birds of a Feather - Hospitality & Protocol Turn In
DESCRIPTION:Please enjoy the hospitality of the ISCRE and turn in your protocol for Coronation XLVIII – Birds of a Feather
URL:https://raintreeempire.org/event/coronation-xlviii-birds-of-a-feather-hospitality-protocol-turn-in/
LOCATION:Comfort Suites – Vancouver Mall\, 4714 NE 94th Ave\, Vancouver\, WA\, 98662\, United States
END:VEVENT
BEGIN:VEVENT
DTSTART;TZID=America/Los_Angeles:20220429T190000
DTEND;TZID=America/Los_Angeles:20220429T220000
DTSTAMP:20260423T162832
CREATED:20211113T194808Z
LAST-MODIFIED:20220228T004000Z
UID:840-1651258800-1651269600@raintreeempire.org
SUMMARY:Coronation XLVIII – Birds of a Feather - Out of Town Show
DESCRIPTION:Please join the ISCRE for Coronation XLVIII – Birds of a Feather – Out of Town Show \n 
URL:https://raintreeempire.org/event/coronation-xlviii-birds-of-a-feather-out-of-town-show/
LOCATION:Georgie’s Bar & Grill\, 606 Broadway St\, Vancouver\, WA\, 98660\, United States
END:VEVENT
BEGIN:VEVENT
DTSTART;TZID=America/Los_Angeles:20220413T183000
DTEND;TZID=America/Los_Angeles:20220413T200000
DTSTAMP:20260423T162832
CREATED:20211113T194437Z
LAST-MODIFIED:20211113T194437Z
UID:838-1649874600-1649880000@raintreeempire.org
SUMMARY:ISCRE Board of Directors Meeting
DESCRIPTION:The ISCRE will be having its monthly Board of Directors Meeting. Open to all ISCRE and community members.
URL:https://raintreeempire.org/event/iscre-board-of-directors-meeting-5/
LOCATION:Martha’s Pantry\, 1220 NE 68th St\, Vancouver\, WA\, 98665\, United States
END:VEVENT
BEGIN:VEVENT
DTSTART;TZID=America/Los_Angeles:20220402T173000
DTEND;TZID=America/Los_Angeles:20220402T210000
DTSTAMP:20260423T162832
CREATED:20220228T003851Z
LAST-MODIFIED:20220228T003851Z
UID:901-1648920600-1648933200@raintreeempire.org
SUMMARY:Heart and Soul Food: A Gospel Music Dinner Show
DESCRIPTION:A Gospel Music Dinner show which includes amazing Drag performances.\nThis benefits the ISCRE and Peacock Productions\, Inc.\nHosted by Tree Empress XLVII Candi Wrapper and Rose Empress XXXVI Maria Peters Lake
URL:https://raintreeempire.org/event/heart-and-soul-food-a-gospel-music-dinner-show/
LOCATION:Martha’s Pantry\, 1220 NE 68th St\, Vancouver\, WA\, 98665\, United States
END:VEVENT
BEGIN:VEVENT
DTSTART;TZID=America/Los_Angeles:20220310T183000
DTEND;TZID=America/Los_Angeles:20220310T200000
DTSTAMP:20260423T162832
CREATED:20211113T194355Z
LAST-MODIFIED:20211113T194355Z
UID:836-1646937000-1646942400@raintreeempire.org
SUMMARY:ISCRE Board of Directors Meeting
DESCRIPTION:The ISCRE will be having its monthly Board of Directors Meeting. Open to all ISCRE and community members.
URL:https://raintreeempire.org/event/iscre-board-of-directors-meeting-4/
LOCATION:Martha’s Pantry\, 1220 NE 68th St\, Vancouver\, WA\, 98665\, United States
END:VEVENT
BEGIN:VEVENT
DTSTART;TZID=America/Los_Angeles:20220209T183000
DTEND;TZID=America/Los_Angeles:20220209T200000
DTSTAMP:20260423T162832
CREATED:20211113T194304Z
LAST-MODIFIED:20211113T194304Z
UID:834-1644431400-1644436800@raintreeempire.org
SUMMARY:ISCRE Board of Directors Meeting
DESCRIPTION:The ISCRE will be having its monthly Board of Directors Meeting. Open to all ISCRE and community members.
URL:https://raintreeempire.org/event/iscre-board-of-directors-meeting-3/
LOCATION:Martha’s Pantry\, 1220 NE 68th St\, Vancouver\, WA\, 98665\, United States
END:VEVENT
BEGIN:VEVENT
DTSTART;TZID=America/Los_Angeles:20220112T183000
DTEND;TZID=America/Los_Angeles:20220112T200000
DTSTAMP:20260423T162832
CREATED:20211113T194208Z
LAST-MODIFIED:20211113T194208Z
UID:832-1642012200-1642017600@raintreeempire.org
SUMMARY:ISCRE Board of Directors Meeting
DESCRIPTION:The ISCRE will be having its monthly Board of Directors Meeting. Open to all ISCRE and community members.
URL:https://raintreeempire.org/event/iscre-board-of-directors-meeting-2/
LOCATION:Martha’s Pantry\, 1220 NE 68th St\, Vancouver\, WA\, 98665\, United States
END:VEVENT
BEGIN:VEVENT
DTSTART;TZID=America/Los_Angeles:20211211T170000
DTEND;TZID=America/Los_Angeles:20211211T220000
DTSTAMP:20260423T162832
CREATED:20211113T193525Z
LAST-MODIFIED:20211113T193525Z
UID:818-1639242000-1639260000@raintreeempire.org
SUMMARY:Holiday Jingle - The ISCRE Christmas Show
DESCRIPTION:Please join the ISCRE and The Gay Vancouvers’ for Holiday Jingle. \nThere will be holiday cheer\, great treats\, raffle’s and amazing entertainment! \nPortion of Net Proceeds Benefit Charities of the ISCRE Reign 47 \n 
URL:https://raintreeempire.org/event/holiday-jingle-the-iscre-christmas-show/
LOCATION:Martha’s Pantry\, 1220 NE 68th St\, Vancouver\, WA\, 98665\, United States
END:VEVENT
BEGIN:VEVENT
DTSTART;TZID=America/Los_Angeles:20211208T183000
DTEND;TZID=America/Los_Angeles:20211208T200000
DTSTAMP:20260423T162832
CREATED:20211113T193957Z
LAST-MODIFIED:20211113T193957Z
UID:830-1638988200-1638993600@raintreeempire.org
SUMMARY:ISCRE Board of Directors Meeting
DESCRIPTION:The ISCRE will be having its monthly Board of Directors Meeting. Open to all ISCRE and community members.
URL:https://raintreeempire.org/event/iscre-board-of-directors-meeting/
LOCATION:Martha’s Pantry\, 1220 NE 68th St\, Vancouver\, WA\, 98665\, United States
END:VEVENT
BEGIN:VEVENT
DTSTART;TZID=America/Los_Angeles:20211201T183000
DTEND;TZID=America/Los_Angeles:20211201T200000
DTSTAMP:20260423T162832
CREATED:20211113T193720Z
LAST-MODIFIED:20211113T193720Z
UID:823-1638383400-1638388800@raintreeempire.org
SUMMARY:ISCRE By-Law Committee Meeting
DESCRIPTION:The ISCRE By-Law Committee will be meeting to discuss possible adjustments and changes to the ISCRE By-Laws and Operations Manual. \nThis is open to all ISCRE Members.
URL:https://raintreeempire.org/event/iscre-by-law-committee-meeting/
LOCATION:Martha’s Pantry\, 1220 NE 68th St\, Vancouver\, WA\, 98665\, United States
END:VEVENT
BEGIN:VEVENT
DTSTART;TZID=America/Los_Angeles:20211114T160000
DTEND;TZID=America/Los_Angeles:20211114T210000
DTSTAMP:20260423T162832
CREATED:20211113T192849Z
LAST-MODIFIED:20211113T192849Z
UID:815-1636905600-1636923600@raintreeempire.org
SUMMARY:ISCRE Presents: Thanks-4-Giving a Drag Fundraiser
DESCRIPTION:The Imperial Sovereign Court of the Raintree Empire presents: Thanks-4-Giving a Drag Fundraiser for the charities of the ISCRE. \nDoor at 4 pm \nShow at  5 pm \n$10
URL:https://raintreeempire.org/event/iscre-presents-thanks-4-giving-a-drag-fundraiser/
LOCATION:Donnell’s Bar\, 813 Main Street\, Vancouver\, WA\, 98660\, United States
CATEGORIES:Fundraisers
END:VEVENT
END:VCALENDAR